BEGIN:VCALENDAR
VERSION:2.0
PRODID:-//Adath Israel - ECPv5.3.1//NONSGML v1.0//EN
CALSCALE:GREGORIAN
METHOD:PUBLISH
X-WR-CALNAME:Adath Israel
X-ORIGINAL-URL:http://kellywalsh.space/sisterhood
X-WR-CALDESC:Events for Adath Israel
BEGIN:VTIMEZONE
TZID:UTC
BEGIN:STANDARD
TZOFFSETFROM:+0000
TZOFFSETTO:+0000
TZNAME:UTC
DTSTART:20230101T000000
END:STANDARD
END:VTIMEZONE
BEGIN:VEVENT
DTSTART;TZID=UTC:20230227T193000
DTEND;TZID=UTC:20230227T213000
DTSTAMP:20260423T225459
CREATED:20221217T175534Z
LAST-MODIFIED:20230126T184243Z
UID:2753-1677526200-1677533400@kellywalsh.space
SUMMARY:Magic and Muffins featuring the Amazing Cindini (Kickoff of 2023 Torah Fund Campaign)
DESCRIPTION:Join us for a magic show featuring the Amazing Cindini\, with special guest Rabbi Moshe Smolkin \nMonday\, February 27\, 2023\n7:30 – 9:30 p.m.\nAdath Israel Congregation\nCost: $10/person\, plus a minimum $18* donation to the 2023 Torah Fund Campaign \nNOTE: This event was previously scheduled for Jan. 22 but was cancelled due to weather. If you already registered for the event and can attend the new date on February 27\, you do not need to do anything. If you already registered and cannot attend and would like a $10 refund\, please contact Rebecca Goldwasser below. \nRegister Now via Adath Israel’s ShulCloud!\nDonations to Torah Fund should be made directly to the Jewish Theological Seminary website. \nThis event is the kickoff for Adath Israel Sisterhood’s 2023 Torah Fund campaign to support Conservative Jewish seminaries. If you have questions\, please contact Rebecca Goldwasser at (513) 240-11772 or tamarhrgold@live.com. \nTORAH FUND CAMPAIGN \nThe Torah Fund Campaign\, sponsored by the Women’s League for Conservative Judaism (WLCJ)\, is an annual fundraiser for Conservative Jewish seminaries across the world.  \n*Donations of $180 or more will receive the 5783 Torah Fund pin\, Chazak v’Ematz (Be Strong and Courageous). Donations are tax deductible. For more information\, please visit the Torah Fund website.  \n 
URL:http://kellywalsh.space/sisterhood/event/amazing-cindini/
LOCATION:Adath Israel Congregation\, 3201 E. Galbraith Road\, Cincinnati\, OH\, 45236\, United States
ORGANIZER;CN="Rebecca%20Goldwasser":MAILTO:tamarhrgold@live.com
END:VEVENT
END:VCALENDAR