BEGIN:VCALENDAR
VERSION:2.0
PRODID:-//Adath Israel - ECPv5.3.1//NONSGML v1.0//EN
CALSCALE:GREGORIAN
METHOD:PUBLISH
X-WR-CALNAME:Adath Israel
X-ORIGINAL-URL:http://kellywalsh.space/sisterhood
X-WR-CALDESC:Events for Adath Israel
BEGIN:VTIMEZONE
TZID:UTC
BEGIN:STANDARD
TZOFFSETFROM:+0000
TZOFFSETTO:+0000
TZNAME:UTC
DTSTART:20210101T000000
END:STANDARD
END:VTIMEZONE
BEGIN:VEVENT
DTSTART;TZID=UTC:20210119T193000
DTEND;TZID=UTC:20210119T210000
DTSTAMP:20260421T133801
CREATED:20200827T090436Z
LAST-MODIFIED:20210114T091557Z
UID:1494-1611084600-1611090000@kellywalsh.space
SUMMARY:Virtual Sisterhood Book Club
DESCRIPTION:I Feel Bad About My Neck…and Other Thoughts on Being a Woman by Nora Ephron\n2006 Non-Fiction \nTime: 7:30 p.m.\nDate:  Tuesday\, January 19\, 2021\nPlace:  Comfort of your own home. Details and links to an online Zoom meeting will be sent via email once we receive your RSVP \n \nRSVP to either: \nBarbara Bresler\, 513-530-0118\, barbara@adath-israel\nSusan Farber\, 513-379-9493\, farberschevrah@gmail.com
URL:http://kellywalsh.space/sisterhood/event/book-club-5-2-2-2-2-3-4-3-2-2-3-2-2-2-2-2-3-2-2-2-2/
LOCATION:Online via Zoom
ORGANIZER;CN="Barbara%20Bresler%2C%20513-530-0118%2C%20barbara%40adath-israel.org":MAILTO:barbara@adath-israel.org
END:VEVENT
END:VCALENDAR