BEGIN:VCALENDAR
VERSION:2.0
PRODID:-//Adath Israel - ECPv5.3.1//NONSGML v1.0//EN
CALSCALE:GREGORIAN
METHOD:PUBLISH
X-WR-CALNAME:Adath Israel
X-ORIGINAL-URL:http://kellywalsh.space/sisterhood
X-WR-CALDESC:Events for Adath Israel
BEGIN:VTIMEZONE
TZID:UTC
BEGIN:STANDARD
TZOFFSETFROM:+0000
TZOFFSETTO:+0000
TZNAME:UTC
DTSTART:20200101T000000
END:STANDARD
END:VTIMEZONE
BEGIN:VEVENT
DTSTART;TZID=UTC:20201117T193000
DTEND;TZID=UTC:20201117T210000
DTSTAMP:20260421T180632
CREATED:20200827T090006Z
LAST-MODIFIED:20201029T050552Z
UID:1490-1605641400-1605646800@kellywalsh.space
SUMMARY:Virtual Sisterhood Book Club
DESCRIPTION:My Jewish Year: 18 Holidays and One Wondering Jew by Abigail Pogrebin \nTime: 7:30 p.m.\n Date:  Tuesday\, November 17\, 2020\n Place:  Comfort of your own home. Details and links to an online Zoom meeting will be sent via email once we receive your RSVP. \nHere are three prompts to frame our discussion during the event: \n1.      Which description of a holiday or day of observance was new information for you? \n2.      Which detail about a festival or day of observance would you consider integrating within your practice as a Jew? \n3.      Since Ms Pogrebin provides a rich background as to the significance and Jewish values associated with each of these holidays\, how does this explanation of ritual and value expand your appreciation of what it means to be a Jew? \n  \n 
URL:http://kellywalsh.space/sisterhood/event/book-club-5-2-2-2-2-3-4-3-2-2-3-2-2-2-2-2-3-2-2/
LOCATION:Online via Zoom
ORGANIZER;CN="Barbara%20Bresler%2C%20513-530-0118%2C%20barbara%40adath-israel.org":MAILTO:barbara@adath-israel.org
END:VEVENT
END:VCALENDAR