BEGIN:VCALENDAR
VERSION:2.0
PRODID:-//Adath Israel - ECPv5.3.1//NONSGML v1.0//EN
CALSCALE:GREGORIAN
METHOD:PUBLISH
X-WR-CALNAME:Adath Israel
X-ORIGINAL-URL:http://kellywalsh.space/sisterhood
X-WR-CALDESC:Events for Adath Israel
BEGIN:VTIMEZONE
TZID:America/New_York
BEGIN:DAYLIGHT
TZOFFSETFROM:-0500
TZOFFSETTO:-0400
TZNAME:EDT
DTSTART:20230312T070000
END:DAYLIGHT
BEGIN:STANDARD
TZOFFSETFROM:-0400
TZOFFSETTO:-0500
TZNAME:EST
DTSTART:20231105T060000
END:STANDARD
END:VTIMEZONE
BEGIN:VEVENT
DTSTART;TZID=America/New_York:20230321T193000
DTEND;TZID=America/New_York:20230321T210000
DTSTAMP:20260423T235757
CREATED:20220801T004241Z
LAST-MODIFIED:20230328T232140Z
UID:2476-1679427000-1679432400@kellywalsh.space
SUMMARY:Sisterhood Book Club
DESCRIPTION:The Life Ahead\, a film based on Romain Gary’s 1975 book\, The Life Before Us \nTime: 7:30 p.m.\nDate:  Tuesday\, March 21\nPlace:  Comfort of your own home. Details and links to an online Zoom meeting will be sent via email once we receive your RSVP to Susan Farber at farberschevrah@gmail.com \n 
URL:http://kellywalsh.space/sisterhood/event/book-club-june-2022-copy-copy-copy-copy-copy/
LOCATION:Online via Zoom
ORGANIZER;CN="Barbara%20Bresler%2C%20513-530-0118%2C%20barbara%40adath-israel.org":MAILTO:barbara@adath-israel.org
END:VEVENT
END:VCALENDAR