BEGIN:VCALENDAR
VERSION:2.0
PRODID:-//Adath Israel - ECPv5.3.1//NONSGML v1.0//EN
CALSCALE:GREGORIAN
METHOD:PUBLISH
X-WR-CALNAME:Adath Israel
X-ORIGINAL-URL:http://kellywalsh.space/sisterhood
X-WR-CALDESC:Events for Adath Israel
BEGIN:VTIMEZONE
TZID:UTC
BEGIN:STANDARD
TZOFFSETFROM:+0000
TZOFFSETTO:+0000
TZNAME:UTC
DTSTART:20150101T000000
END:STANDARD
END:VTIMEZONE
BEGIN:VEVENT
DTSTART;TZID=UTC:20151013T193000
DTEND;TZID=UTC:20151013T220000
DTSTAMP:20260423T033315
CREATED:20150915T203933Z
LAST-MODIFIED:20151011T190939Z
UID:146-1444764600-1444773600@kellywalsh.space
SUMMARY:Book Club
DESCRIPTION:All the Light We Cannot See by A. Doerr
URL:http://kellywalsh.space/sisterhood/event/book-club/
LOCATION:Library
ORGANIZER;CN="Barbara%20Bresler%2C%20513-530-0118%2C%20barbara%40adath-israel.org":MAILTO:barbara@adath-israel.org
END:VEVENT
END:VCALENDAR