BEGIN:VCALENDAR
VERSION:2.0
PRODID:-//Adath Israel - ECPv5.3.1//NONSGML v1.0//EN
CALSCALE:GREGORIAN
METHOD:PUBLISH
X-WR-CALNAME:Adath Israel
X-ORIGINAL-URL:http://kellywalsh.space/sisterhood
X-WR-CALDESC:Events for Adath Israel
BEGIN:VTIMEZONE
TZID:America/New_York
BEGIN:DAYLIGHT
TZOFFSETFROM:-0500
TZOFFSETTO:-0400
TZNAME:EDT
DTSTART:20230312T070000
END:DAYLIGHT
BEGIN:STANDARD
TZOFFSETFROM:-0400
TZOFFSETTO:-0500
TZNAME:EST
DTSTART:20231105T060000
END:STANDARD
END:VTIMEZONE
BEGIN:VEVENT
DTSTART;TZID=America/New_York:20230420T193000
DTEND;TZID=America/New_York:20230420T210000
DTSTAMP:20260424T005841
CREATED:20230403T000833Z
LAST-MODIFIED:20230414T132820Z
UID:2887-1682019000-1682024400@kellywalsh.space
SUMMARY:Rosh Chodesh
DESCRIPTION:Rosh Chodesh: A Time for Women to Gather for Rejuvenation and Celebration \nTime: 7:30 – 9:00 p.m.\nDate:  Thursday\, April 20\, 2023\nPlace:  Marcus Chapel\nCost: Free to all\nRSVP: Register online by April 17 \nFeaturing a group discussion of Mother Earth\, Feminism\, and Climate Justice led by Wyn Garfinkle Plymesser \nFollowed by a special breath work session focused on calming the nervous system and reconnecting back to our bodies\, facilitated by C.A. “Yael” Lewis\, a certified Professional Holistic Life Coach & Mind/Body/Breath Instructor. You will be able to select essential oils to use during the session. \nLight refreshments will be served during this event. \nIf you have questions\, please contact Lisa Kadosh at (216) 272-6665 or duduint@live.com. \n  \n  \n  \n  \n 
URL:http://kellywalsh.space/sisterhood/event/roshchodesh2023/
LOCATION:Marcus Chapel
ORGANIZER;CN="Lisa%20Kadosh":MAILTO:duduint@live.com
END:VEVENT
END:VCALENDAR