BEGIN:VCALENDAR
VERSION:2.0
PRODID:-//Adath Israel - ECPv5.3.1//NONSGML v1.0//EN
CALSCALE:GREGORIAN
METHOD:PUBLISH
X-WR-CALNAME:Adath Israel
X-ORIGINAL-URL:http://kellywalsh.space/sisterhood
X-WR-CALDESC:Events for Adath Israel
BEGIN:VTIMEZONE
TZID:UTC
BEGIN:STANDARD
TZOFFSETFROM:+0000
TZOFFSETTO:+0000
TZNAME:UTC
DTSTART:20150101T000000
END:STANDARD
END:VTIMEZONE
BEGIN:VEVENT
DTSTART;TZID=UTC:20151003T200000
DTEND;TZID=UTC:20151003T230000
DTSTAMP:20260423T045849
CREATED:20150915T202958Z
LAST-MODIFIED:20151125T070919Z
UID:143-1443902400-1443913200@kellywalsh.space
SUMMARY:Sisterhood & Brotherhood Sukkah Hop
DESCRIPTION:Appetizers\, wine and dessert at 2-3 homes. More details to come \n 
URL:http://kellywalsh.space/sisterhood/event/sisterhood-brotherhood-sukkah-hop/
LOCATION:Dairy Kitchen
ORGANIZER;CN="Rebecca%20Goldwasser":MAILTO:tamarhrgold@live.com
END:VEVENT
END:VCALENDAR