BEGIN:VCALENDAR
VERSION:2.0
PRODID:-//Adath Israel - ECPv5.3.1//NONSGML v1.0//EN
CALSCALE:GREGORIAN
METHOD:PUBLISH
X-WR-CALNAME:Adath Israel
X-ORIGINAL-URL:http://kellywalsh.space/sisterhood
X-WR-CALDESC:Events for Adath Israel
BEGIN:VTIMEZONE
TZID:UTC
BEGIN:STANDARD
TZOFFSETFROM:+0000
TZOFFSETTO:+0000
TZNAME:UTC
DTSTART:20220101T000000
END:STANDARD
END:VTIMEZONE
BEGIN:VEVENT
DTSTART;TZID=UTC:20221015T193000
DTEND;TZID=UTC:20221015T223000
DTSTAMP:20260423T142800
CREATED:20220623T202555Z
LAST-MODIFIED:20221001T001436Z
UID:2435-1665862200-1665873000@kellywalsh.space
SUMMARY:Spirits in the Sukkah - Joint Sisterhood/Brotherhood/Nefesh event
DESCRIPTION:Please join us for a fun evening of celebrating Sukkot!  \nHosted by Sisterhood\, Brotherhood\, and Nefesh \nSaturday\, October 15\, 2022\n7:30 – 10:30 p.m.\nSukkah Plaza at Adath Israel \nFree event \nRelax in the Sukkah or by the fire with light bites\, beverages\, and spirit tastings \nDrop off your kids at the Youth Lounge for a pumpkin party\, with games\, pumpkin painting\, and desserts. \nLearn more and register…
URL:http://kellywalsh.space/sisterhood/event/sisterhood-brotherhood-sukkah-party_2022/
LOCATION:Josephine G. Stillpass & Family Sukkah Plaza\, 3201 E. Galbraith Road\, Cincinnati\, OH\, 45236\, United States
ORGANIZER;CN="Sue%20Pressman":MAILTO:aisisterhood@gmail.com
END:VEVENT
END:VCALENDAR