BEGIN:VCALENDAR
VERSION:2.0
PRODID:-//Adath Israel - ECPv5.3.1//NONSGML v1.0//EN
CALSCALE:GREGORIAN
METHOD:PUBLISH
X-WR-CALNAME:Adath Israel
X-ORIGINAL-URL:http://kellywalsh.space/sisterhood
X-WR-CALDESC:Events for Adath Israel
BEGIN:VTIMEZONE
TZID:UTC
BEGIN:STANDARD
TZOFFSETFROM:+0000
TZOFFSETTO:+0000
TZNAME:UTC
DTSTART:20210101T000000
END:STANDARD
END:VTIMEZONE
BEGIN:VEVENT
DTSTART;TZID=UTC:20210206T090000
DTEND;TZID=UTC:20210206T130000
DTSTAMP:20260421T085341
CREATED:20200827T090725Z
LAST-MODIFIED:20210106T081254Z
UID:1496-1612602000-1612616400@kellywalsh.space
SUMMARY:Virtual Sisterhood Shabbat
DESCRIPTION:What’s Sisterhood Shabbat?  It’s when Sisterhood members lead the Shabbat morning service\, including reading Torah and Haftorah\, as well as other parts of the service. \nThis year\, Sisterhood Shabbat will be a virtual event on Zoom. Following the service\, we are inviting everyone to stay on Zoom to kibbutz a bit and partake in a FREE sweet Kiddush treat bag prepared by Creations by Melody. \nPlease RSVP by January 31 to aisisterhood@gmail.com to let us know how many treat bags you will need. Each bag is for one person. Pick up* of the Kiddush bags is from 5:30 – 7:00 p.m. on Thursday\, February 4 at Adath Israel. If you are unable to pick up the bag during that time\, please contact Rebecca Goldwasser at tamarhrgold@live.com or by phone at (513) 240-1772. \nThe Zoom link to the service can be found in Adath Israel’s weekly email blast – it’s the same link used for every Shabbat morning service. \n*During the pickup\, we’d LOVE for you to participate in our collection drive for the Jewish Family Service Food Pantry. They are in need of the following items: \n\nCoffee\nWhite and brown rice\, both Kosher and non-Kosher \nCondiments\, both Kosher and non-Kosher\nKosher soup\nCanned salmon\, both Kosher and non-Kosher\nDish soap\nCleaning supplies\nLaundry detergent\n\n  \n 
URL:http://kellywalsh.space/sisterhood/event/sisterhood-shabbat-2-2-2-2-2/
LOCATION:Online via Zoom
ORGANIZER;CN="Debbie%20Lempert":MAILTO:dlempert2@gmail.com
END:VEVENT
END:VCALENDAR