BEGIN:VCALENDAR
VERSION:2.0
PRODID:-//Adath Israel - ECPv5.3.1//NONSGML v1.0//EN
CALSCALE:GREGORIAN
METHOD:PUBLISH
X-WR-CALNAME:Adath Israel
X-ORIGINAL-URL:http://kellywalsh.space/sisterhood
X-WR-CALDESC:Events for Adath Israel
BEGIN:VTIMEZONE
TZID:UTC
BEGIN:STANDARD
TZOFFSETFROM:+0000
TZOFFSETTO:+0000
TZNAME:UTC
DTSTART:20230101T000000
END:STANDARD
END:VTIMEZONE
BEGIN:VEVENT
DTSTART;TZID=UTC:20230211T090000
DTEND;TZID=UTC:20230211T130000
DTSTAMP:20260423T203440
CREATED:20220623T203408Z
LAST-MODIFIED:20230127T140524Z
UID:2444-1676106000-1676120400@kellywalsh.space
SUMMARY:Sisterhood Shabbat
DESCRIPTION:  \nPlease join us for Sisterhood Shabbat on Saturday\, February 11\, 2023\, where Sisterhood members will lead the entire Shabbat morning service. \nSisterhood Shabbat will be followed by a Kiddush luncheon. \nRSVP now for lunch on Adath Israel’s ShulCloud site. \n  \n 
URL:http://kellywalsh.space/sisterhood/event/sisterhood-shabbat-feb_2023/
LOCATION:Adath Israel Congregation\, 3201 E. Galbraith Road\, Cincinnati\, OH\, 45236\, United States
ORGANIZER;CN="Gilda%20Schwartz":MAILTO:gilda49@aol.com
END:VEVENT
END:VCALENDAR